Workbook
Name aa: '[2]1993'!$A$1:$IV$3,'[2]1993'!$A$1:$A$65536
Name AF: #REF!
Name AF: #REF!
Name AG: #REF!
Name AG: #REF!
Name dCPIb: [3]попер_роз!#REF!
Name dPPIb: [3]попер_роз!#REF!
Name EXPORT_EXCEL4: #REF!
Name EXPORT_EXCEL4: #REF!
Name fff: '[4]Opinion Indust.'!$A$8:$B$389
Name ikk: #REF!
Name insee: '[4]Opinion Indust.'!$A$8:$B$389
Name mkm: '[4]Opinion Indust.'!$A$8:$B$389
Name ytg: '[5]1993'!$A$1:$IV$3,'[5]1993'!$A$1:$A$65536
Name Заголовки_для_печати_МИ: '[6]1993'!$A$1:$IV$3,'[6]1993'!$A$1:$A$65536

Sheet NYITÓLAP
I2: KEDVEZŐ ÜZLETI HELYZET, TOVÁBBRA IS OPTIMISTA VÁRAKOZÁSOK
I3: A 2018. októberi vállalati konjunktúrafelvétel eredményei
A9: Az MKIK Gazdaság- és Vállalkozáskutató Intézet olyan nonprofit kutatóműhely, amely elsősorban alkalmazott közgazdasági kutatásokat folytat.
A10: Célja, hogy elméletileg és empirikusan megalapozott ismereteket és elemzéseket nyújtson a magyar gazdaság és a magyar vállalkozások helyzetét és kilátásait befolyásoló gazdasági és társadalmi folyamatokról.
B12: Az elemzés elkészítésében részt vettek:
D13: Horváth Ágoston, elemző – elemzés, makroadatok, külföldi konjunktúra mutatók, grafikonok
D14: Nábelek Fruzsina, elemző – online rögzítő felület és adatbázis
D15: Orbán Júlia, munkatárs – adatrögzítés
D16: Révész Erika, irodavezető – kutatásszervezés, adatrögzítés
B17: Kutatásvezető:
D18: Makó Ágnes - ügyvezető igazgató, MKIK GVI
B21: Dátum: 2018. november 13.
B24: Cím: MKIK GVI
B25: 1054 Budapest, Szabadság tér 7.
B26: Tel: 235-05-84
B27: Fax: 235-07-13
B28: e-mail: gvi@gvi.hu
B29: Internet: http://www.gvi.hu

Sheet változók
B1: Elnevezés | C1: Mutató típusa | D1: Forrás
A2: N | B2: Vállalatok száma | C2: Elemszám | D2: GVI
A3: GDP | B3: Féléves GDP átlag | C3: Volumenindex | D3: KSH/GVI
A4: km | B4: Konjunktúra mutató (-1 -- +1) | C4: Pontszám | D4: GVI
A5: km_n | B5: Konjunktúrális előrejelzést adó vállalatok száma | C5: Elemszám | D5: GVI
A6: km_stddev | B6: Bizonytalansági mutató (-1 -- +1) | C6: Pontszám | D6: GVI
A7: bm*100 | B7: Bizonytalansági mutató (-100 -- +100) | C7: Pontszám | D7: GVI
A8: km_median | B8: Konjunktúra mutató mediánja (-100 -- +100) | C8: Pontszám | D8: GVI
A9: km | B9: Konjunktúra mutató (-100 -- +100) | C9: Pontszám | D9: GVI
A10: kkj | B10: Kapacitáskihasználás jelenleg | C10: Arány | D10: GVI
A11: kkvx | B11: Kapacitáskihasználás a következő 6 hónapban | C11: Vállalati egyenlegmutató | D11: GVI
A12: uhjx | B12: Üzleti helyzet jelenleg | C12: Vállalati egyenlegmutató | D12: GVI
A13: uhvx | B13: Az üzleti helyzet a következő 6 hónapban | C13: Vállalati egyenlegmutató | D13: GVI
... A27: mevy | B27: Export megrendelés várható alakulása | C27: Vállalati egyenlegmutató | D27: GVI

Sheet alapadatok
X1: Az üzleti helyzet a következő 6 hónapban | AA1: Az üzleti helyzet a következő 6 hónapban | AE1: Az üzleti helyzet a következő 6 hónapban | AH1: Az üzleti helyzet a következő 6 hónapban | AL1: Jövőbeli beruházások | AO1: Jövőbeli beruházások | AS1: Jövőbeli beruházások | AV1: Jövőbeli beruházások | AZ1: Várható létszám | BC1: Várható létszám | BG1: Várható létszám | BJ1: Várható létszám | BN1: Üzleti helyzet jelenleg
A2: N | B2: Oszlop1 | C2: Oszlop2 | D2: GDP | E2: km_n | F2: bm | G2: km_median | H2: km | I2: kkj | J2: kkvx | K2: uhjx | L2: uhvx | M2: vjjx | N2: vjvx | O2: msvx1 | P2: bevx1 | Q2: bgvx1 | R2: bsvy | S2: evox | T2: evv | U2: lsvx | V2: evey | W2: mevy | X2: Nem exportáló | Y2: Részben exportra dolgozó | Z2: Döntően exportra dolgozó | AA2: ipar | AB2: építőipar | AC2: kereskedelem | AD2: szolgáltatás | AE2: Tisztán hazai tulajdon | AF2: Részben külföldi tulajdon | AG2: Döntően külföldi tulajdon | AH2: x-9 fő | AI2: 10-49 fő | AJ2: 50-249 fő | AK2: 250-x fő | AL2: Nem exportáló3 | AM2: Részben exportra dolgozó4 | AN2: Döntően exportra dolgozó5 | AO2: ipar6 | AP2: építőipar7 | AQ2: kereskedelem8 | AR2: szolgáltatás9 | AS2: Tisztán hazai tulajdon10 | AT2: Részben külföldi tulajdon11 | AU2: Döntően külföldi tulajdon12 | AV2: x-9 fő13 | AW2: 10-49 fő14 | AX2: 50-249 fő15 | AY2: 250-x fő16 | AZ2: Nem exportáló17 | BA2: Részben exportra dolgozó18 | BB2: Döntően exportra dolgozó19 | BC2: ipar20 | BD2: építőipar21 | BE2: kereskedelem22 | BF2: szolgáltatás23 | BG2: Tisztán hazai tulajdon24 | BH2: Részben külföldi tulajdon25 | BI2: Döntően külföldi tulajdon26 | BJ2: x-9 fő27 | BK2: 10-49 fő28 | BL2: 50-249 fő29 | BM2: 250-x fő30 | BN2: Nem exportáló31 | BO2: Részben exportáló | BP2: Döntően exportáló | BQ2: Ipar32 | BR2: Építőipar33 | BS2: Kereskedelem34 | BT2: Egyéb gazd. szolg. | BU2: Tisztán hazai tul. | BV2: Részben külföldi tul. | BW2: Döntően külföldi tul. | BX2: x-9 fő35 | BY2: 10-49 fő36 | BZ2: 50-249 fő37 | CA2: 250-x fő38
A3: 2050 | B3: 1998 június | C3: 98_jun | D3: 4.4 | E3: 1504 | F3: 43.64568 | G3: 54.6077 | H3: 38.2293 | I3: 77.879485 | J3: 0.311073 | K3: 0.236494 | L3: 0.256158 | M3: 0.028844 | N3: 0.196443 | O3: 0.56928867 | P3: -0.088976702 | Q3: 0.35658511 | S3: 0.33 | U3: 0.0748 | V3: 0.314 | W3: 0.5103 | AA3: 0.320665 | AB3: 0.355367 | AC3: 0.173259 | AD3: 0.17031 | AE3: 0.209233 | AF3: 0.374038 | AG3: 0.406741 | AH3: 0.088212 | AI3: 0.262117 | AJ3: 0.258133 | AK3: 0.310913 | BC3: 0.0517 | BD3: 0.1951 | BE3: 0.01 | BF3: 0.1468 | BG3: 0.0264 | BH3: 0.0776 | BI3: 0.1489 | BJ3: 0.1135 | BK3: 0.1855 | BL3: 0.0957 | BM3: 0.0174 | BQ3: 0.24891 | BR3: 0.248853 | BS3: 0.099626 | BT3: 0.316651 | BU3: 0.185119 | BV3: 0.388047 | BW3: 0.510623 | BX3: -0.033803 | BY3: 0.227337 | BZ3: 0.204498 | CA3: 0.34396
A4: 1705 | B4: 1998 december | C4: 98_dec | D4: 4 | E4: 1308 | F4: 45.68071 | G4: 23.1045 | H4: 31.2894 | I4: 79.533134 | J4: 0.160998 | K4: 0.238095 | L4: 0.110411 | M4: 0.041432 | N4: 0.131781 | O4: 0.50681356 | P4: -0.12708596 | Q4: 0.35683734 | S4: 0.31 | U4: 0.0183 | V4: 0.2053 | W4: 0.3238 | AA4: 0.131344 | AB4: 0.148154 | AC4: 0.094726 | AD4: 0.066053 | AE4: 0.10719 | AF4: 0.316168 | AG4: 0.117356 | AH4: 0.037486 | AI4: 0.125692 | AJ4: 0.164612 | AK4: 0.109548 | BC4: -0.0236 | BD4: 0.1356 | BE4: -0.0134 | BF4: 0.123 | BG4: 0.0793 | BH4: -0.0954 | BI4: -0.0643 | BJ4: 0.1398 | BK4: 0.173 | BL4: 0.0266 | BM4: -0.0774 | BQ4: 0.264699 | BR4: 0.125537 | BS4: 0.166625 | BT4: 0.264917 | BU4: 0.276224 | BV4: 0.256416 | BW4: 0.342785 | BX4: 0.026681 | BY4: 0.239498 | BZ4: 0.229161 | CA4: 0.313089
A5: 2053 | B5: 1999 június | C5: 99_jun | D5: 2.5 | E5: 1791 | F5: 48.99457 | G5: 23.1045 | H5: 27.5053 | I5: 76.929141 | J5: 0.112866 | K5: 0.142716 | L5: 0.17555 | M5: -0.042405 | N5: 0.14141 | O5: 0.38290675 | P5: -0.057082209 | Q5: 0.24852572 | S5: 0.11 | U5: -0.0319 | V5: 0.0663 | W5: 0.0964 | X5: 0.129983 | Y5: 0.278856 | Z5: 0.202221 | AA5: 0.237154 | AB5: 0.173693 | AC5: 0.081313 | AD5: 0.096959 | AE5: 0.113074 | AF5: 0.230753 | AG5: 0.364259 | AH5: 0.071186 | AI5: 0.137085 | AJ5: 0.171452 | AK5: 0.225416 | AZ5: -0.0239 | BA5: -0.2116 | BB5: 0.1557 | BC5: -0.0671 | BD5: 0.0675 | BE5: -0.0213 | BF5: 0.0164 | BG5: -0.0357 | BH5: -0.1418 | BI5: 0.1152 | BJ5: 0.0613 | BK5: 0.1403 | BL5: 0.0399 | BM5: -0.1473 | BN5: 0.13931 | BO5: -0.035996 | BP5: 0.366094 | BQ5: 0.139211 | BR5: 0.22759 | BS5: 0.046385 | BT5: 0.204446 | BU5: 0.109908 | BV5: 0.151644 | BW5: 0.383458 | BX5: -0.090895 | BY5: 0.129661 | BZ5: 0.147577 | CA5: 0.225416
A6: 2274 | B6: 1999 december | C6: 99_dec | D6: 3.65 | E6: 1962 | F6: 48.94209 | G6: 54.6077 | H6: 33.9359 | I6: 78.54509 | J6: 0.227837 | K6: 0.180318 | L6: 0.121205 | M6: -0.006203 | N6: 0.138936 | O6: 0.4879921 | P6: 0.037355097 | Q6: 0.30126788 | S6: 0.25 | U6: -0.044 | V6: 0.1885 | W6: 0.3664 | X6: 0.046699 | Y6: 0.208086 | Z6: 0.28975 | AA6: 0.227384 | AB6: -0.028477 | AC6: 0.04785 | AD6: -0.038825 | AE6: 0.062488 | AF6: 0.19396 | AG6: 0.343754 | AH6: 0.019057 | AI6: 0.096365 | AJ6: 0.085146 | AK6: 0.178138 | AZ6: -0.0632 | BA6: -0.1231 | BB6: 0.1729 | BC6: -0.0645 | BD6: -0.0927 | BE6: 0.024 | BF6: -0.0362 | BG6: -0.0636 | BH6: -0.1752 | BI6: 0.0754 | BJ6: 0.0915 | BK6: 0.1196 | BL6: -0.0046 | BM6: -0.1581 | BN6: 0.131556 | BO6: 0.149061 | BP6: 0.446877 | BQ6: 0.234123 | BR6: 0.2293 | BS6: 0.064541 | BT6: 0.131415 | BU6: 0.109996 | BV6: 0.136734 | BW6: 0.481157 | BX6: -0.02287 | BY6: 0.154243 | BZ6: 0.258797 | CA6: 0.2286
A7: 1606 | B7: 2000 június | C7: 00_jun | D7: 4.75 | E7: 1370 | F7: 46.70142 | G7: 52.4276 | H7: 34.3594 | I7: 78.170452 | J7: 0.234646 | K7: 0.2002 | L7: 0.191457 | M7: 0.027743 | N7: 0.129652 | O7: 0.5093123 | P7: 0.00034212718 | Q7: 0.297854 | S7: 0.27 | U7: 0.04 | V7: 0.3367 | W7: 0.3971 | X7: 0.069658 | Y7: 0.377201 | Z7: 0.377691 | AA7: 0.259652 | AB7: 0.174926 | AC7: 0.109722 | AD7: 0.083175 | AE7: 0.148497 | AF7: 0.152436 | AG7: 0.363196 | AH7: 0.109439 | AI7: 0.196958 | AJ7: 0.205005 | AK7: 0.212344 | AZ7: -0.0233 | BA7: 0.0448 | BB7: 0.2638 | BC7: 0.0557 | BD7: 0.1046 | BE7: -0.0177 | BF7: 0.0229 | BG7: -0.0209 | BH7: 0.1297 | BI7: 0.2779 | BJ7: 0.082 | BK7: 0.1691 | BL7: 0.0143 | BM7: -0.0071 | BN7: 0.137979 | BO7: 0.12793 | BP7: 0.528508 | BQ7: 0.26276 | BR7: 0.156674 | BS7: 0.059245 | BT7: 0.169245 | BU7: 0.104541 | BV7: 0.400284 | BW7: 0.484189 | BX7: -0.031958 | BY7: 0.159376 | BZ7: 0.204527 | CA7: 0.291306
A8: 1550 | B8: 2000 október | C8: 00_okt | D8: 4 | E8: 1360 | F8: 46.63071 | G8: 36.4369 | H8: 31.9999 | I8: 79.437219 | J8: 0.165767 | K8: 0.207727 | L8: 0.096985 | M8: 0.0251 | N8: 0.110487 | O8: 0.52926126 | P8: -0.0092630856 | Q8: 0.32975609 | S8: 0.37 | U8: -0.0009 | V8: 0.327 | W8: 0.3452 | X8: 0.039121 | Y8: 0.106711 | Z8: 0.277558 | AA8: 0.144733 | AB8: -0.009569 | AC8: 0.081857 | AD8: 0.02971 | AE8: 0.024202 | AF8: 0.104132 | AG8: 0.4325 | AH8: -0.00978 | AI8: 0.1354 | AJ8: 0.140416 | AK8: 0.104117 | AZ8: -0.0463 | BA8: -0.0696 | BB8: 0.225 | BC8: -0.0065 | BD8: 0.0193 | BE8: -0.0194 | BF8: 0.0186 | BG8: -0.0452 | BH8: -0.0595 | BI8: 0.2229 | BJ8: 0.0652 | BK8: 0.0887 | BL8: -0.0141 | BM8: -0.0481 | BN8: 0.162049 | BO8: 0.137719 | BP8: 0.424714 | BQ8: 0.245721 | BR8: 0.136168 | BS8: 0.150026 | BT8: 0.182598 | BU8: 0.112982 | BV8: 0.314509 | BW8: 0.442306 | BX8: -0.010201 | BY8: 0.159131 | BZ8: 0.252265 | CA8: 0.282488
A9: 1276 | B9: 2001 május | C9: 01_maj | D9: 4.2 | E9: 1063 | F9: 42.52085 | G9: 60.8179 | H9: 46.4947 | I9: 77.937324 | J9: 0.3387 | K9: 0.206424 | L9: 0.275488 | M9: 0.055655 | N9: 0.27818 | O9: 0.55516074 | P9: 0.098179459 | Q9: 0.33794071 | S9: 0.33 | U9: 0.062 | V9: 0.3716 | W9: 0.4 | X9: 0.196413 | Y9: 0.408712 | Z9: 0.322937 | AA9: 0.351244 | AB9: 0.249236 | AC9: 0.230444 | AD9: 0.161317 | AE9: 0.244781 | AF9: 0.181915 | AG9: 0.421888 | AH9: 0.15351 | AI9: 0.313294 | AJ9: 0.291451 | AK9: 0.298535 | AZ9: 0.0443 | BA9: 0.0633 | BB9: 0.122 | BC9: 0.0418 | BD9: 0.1025 | BE9: 0.0566 | BF9: 0.0843 | BG9: 0.0512 | BH9: 0.0137 | BI9: 0.1338 | BJ9: 0.0901 | BK9: 0.1763 | BL9: 0.0689 | BM9: 0.0126 | BN9: 0.130764 | BO9: 0.209016 | BP9: 0.479974 | BQ9: 0.253931 | BR9: 0.022271 | BS9: 0.187753 | BT9: 0.187041 | BU9: 0.120758 | BV9: 0.153841 | BW9: 0.484366 | BX9: -0.078678 | BY9: 0.195301 | BZ9: 0.255062 | CA9: 0.290132
A10: 1492 | B10: 2001 október | C10: 01_okt | D10: 3.7 | E10: 1050 | F10: 46.87999 | G10: 23.1045 | H10: 25.0886 | I10: 77.482744 | J10: 0.178652 | K10: 0.138563 | L10: 0.066208 | M10: -0.072433 | N10: 0.119155 | O10: 0.38184443 | P10: -0.012303256 | Q10: 0.29540926 | R10: 0.129 | S10: 0.19 | U10: -0.1222 | V10: 0.1168 | W10: 0.092 | X10: -0.014349 | Y10: 0.189678 | Z10: 0.142821 | AA10: 0.102969 | AB10: 0.136158 | AC10: -0.06788 | AD10: 0.063021 | AE10: 0.045712 | AF10: 0.083864 | AG10: 0.202409 | AH10: -0.004942 | AI10: 0.075223 | AJ10: 0.143085 | AK10: 0.058287 | AL10: 0.2185 | AM10: 0.1577 | AN10: -0.1507 | AO10: 0.0523 | AP10: 0.3462 | AQ10: 0.0436 | AR10: 0.3062 | AS10: 0.0976 | AT10: 0.2269 | AU10: 0.0224 | AV10: 0.2257 | AW10: 0.2463 | AX10: 0.1907 | AY10: 0.0507 | AZ10: -0.1123 | BA10: -0.1239 | BB10: -0.1495 | BC10: -0.2037 | BD10: -0.1467 | BE10: -0.0842 | BF10: 0.0094 | BG10: -0.0553 | BH10: -0.1234 | BI10: -0.1767 | BJ10: 0.0708 | BK10: 0.0591 | BL10: -0.0096 | BM10: -0.291 | BN10: 0.166659 | BO10: 0.170689 | BP10: 0.015266 | BQ10: 0.121962 | BR10: 0.261551 | BS10: 0.051551 | BT10: 0.24951 | BU10: 0.125681 | BV10: 0.027496 | BW10: 0.190556 | BX10: -0.04341 | BY10: 0.170902 | BZ10: 0.157744 | CA10: 0.182703
A11: 1565 | B11: 2002 április | C11: 02_apr | D11: 4.5 | E11: 1312 | F11: 45.73848 | G11: 59.0065 | H11: 39.7112 | I11: 75.995865 | J11: 0.236157 | K11: 0.107287 | L11: 0.232138 | M11: -0.101258 | N11: 0.199154 | O11: 0.50581173 | P11: 0.023450176 | Q11: 0.30790066 | R11: 0.1268 | S11: 0.1 | U11: 0.0681 | V11: -0.0645 | W11: 0.2838 | X11: 0.192818 | Y11: 0.317529 | Z11: 0.247025 | AA11: 0.258345 | AB11: 0.469772 | AC11: 0.045387 | AD11: 0.219844 | AE11: 0.258188 | AF11: 0.274225 | AG11: 0.419922 | AH11: 0.172652 | AI11: 0.255806 | AJ11: 0.220371 | AK11: 0.248857 | AL11: 0.1828 | AM11: 0.2024 | AN11: -0.1485 | AO11: 0.0845 | AP11: 0.2871 | AQ11: 0.0911 | AR11: 0.1905 | AS11: 0.1957 | AT11: 0.2588 | AU11: 0.0115 | AV11: 0.2181 | AW11: 0.2355 | AX11: 0.0698 | AY11: 0.0954 | AZ11: 0.0863 | BA11: 0.0153 | BB11: 0.0809 | BC11: 0.0117 | BD11: 0.2016 | BE11: 0.0572 | BF11: 0.1467 | BG11: 0.0783 | BH11: 0.1641 | BI11: 0.1669 | BJ11: 0.1676 | BK11: 0.1565 | BL11: 0.0622 | BM11: 0.0082 | BN11: 0.103899 | BO11: 0.061024 | BP11: 0.183154 | BQ11: 0.117362 | BR11: 0.08016 | BS11: 0.035605 | BT11: 0.134265 | BU11: 0.110955 | BV11: 0.04454 | BW11: 0.346689 | BX11: -0.092872 | BY11: 0.111928 | BZ11: 0.096217 | CA11: 0.177446
A12: 1694 | B12: 2002 október | C12: 02_okt | D12: 4.55 | E12: 1465 | F12: 48.16081 | G12: 54.6077 | H12: 34.7113 | I12: 77.097412 | J12: 0.160201 | K12: 0.090376 | L12: 0.167106 | M12: -0.091464 | N12: 0.06494 | O12: 0.44531776 | P12: -0.07061089 | Q12: 0.27430652 | R12: 0.1224 | S12: 0.1 | U12: -0.0503 | V12: -0.0731 | W12: 0.2309 | X12: 0.151118 | Y12: 0.201994 | Z12: 0.165004 | AA12: 0.210077 | AB12: -0.028393 | AC12: 0.173308 | AD12: 0.11696 | AE12: 0.123383 | AF12: 0.327975 | AG12: 0.405244 | AH12: 0.104803 | AI12: 0.098636 | AJ12: 0.112988 | AK12: 0.231337 | AL12: 0.206 | AM12: 0.2858 | AN12: -0.2019 | AO12: 0.0381 | AP12: 0.2312 | AQ12: 0.2376 | AR12: 0.2338 | AS12: 0.2126 | AT12: -0.1616 | AU12: -0.0427 | AV12: 0.1517 | AW12: 0.2119 | AX12: 0.1146 | AY12: 0.0923 | AZ12: -0.0253 | BA12: 0.0372 | BB12: -0.1948 | BC12: -0.1398 | BD12: -0.1321 | BE12: 0.0451 | BF12: 0.1254 | BG12: -0.018 | BH12: -0.2336 | BI12: 0.0151 | BJ12: 0.0722 | BK12: 0.0294 | BL12: -0.1079 | BM12: -0.0946 | BN12: 0.124823 | BO12: 0.024692 | BP12: 0.083184 | BQ12: 0.044898 | BR12: 0.153584 | BS12: 0.186956 | BT12: 0.128002 | BU12: 0.096329 | BV12: -0.157956 | BW12: 0.300406 | BX12: -0.019382 | BY12: 0.14029 | BZ12: 0.113488 | CA12: 0.102956
A13: 1743 | B13: 2003 április | C13: 03_apr | D13: 3.45 | E13: 1468 | F13: 51.18917 | G13: 52.4276 | H13: 32.4142 | I13: 75.312936 | J13: 0.207979 | K13: 0.005311 | L13: 0.110576 | M13: -0.157623 | N13: 0.047576 | O13: 0.44801502 | P13: -0.097166725 | Q13: 0.17811518 | R13: 0.0773 | S13: -0.04 | T13: 1.8239 | U13: -0.0916 | V13: -0.1803 | W13: 0.2783 | X13: 0.058661 | Y13: 0.080955 | Z13: 0.254779 | AA13: 0.171918 | AB13: 0.11703 | AC13: 0.027745 | AD13: 0.048598 | AE13: 0.036001 | AF13: 0.219727 | AG13: 0.39526 | AH13: 0.011071 | AI13: 0.106133 | AJ13: 0.021655 | AK13: 0.180092 | AL13: 0.0033 | AM13: 0.1598 | AN13: 0.0478 | AO13: 0.1054 | AP13: 0.1845 | AQ13: 0.1324 | AR13: -0.0236 | AS13: -0.009 | AT13: -0.0383 | AU13: 0.3712 | AV13: 0.1596 | AW13: 0.174 | AX13: 0.1079 | AY13: 0.0264 | AZ13: -0.0781 | BA13: -0.2293 | BB13: -0.0965 | BC13: -0.1564 | BD13: 0.1008 | BE13: 0.069 | BF13: -0.0894 | BG13: -0.1289 | BH13: -0.1542 | BI13: 0.0349 | BJ13: 0.057 | BK13: 0.0585 | BL13: -0.1077 | BM13: -0.1853 | BN13: 0.056607 | BO13: -0.146593 | BP13: 0.058685 | BQ13: 0.007615 | BR13: 0.012737 | BS13: 0.000155 | BT13: 0.030446 | BU13: -0.048924 | BV13: -0.323137 | BW13: 0.345051 | BX13: -0.148661 | BY13: -0.041267 | BZ13: 0.047307 | CA13: 0.057956
A14: 1919 | B14: 2003 október | C14: 03_okt | D14: 4 | E14: 1612 | F14: 54.3752 | G14: 52.4276 | H14: 28.0884 | I14: 78.458007 | J14: 0.056303 | K14: 0.10731 | L14: 0.114983 | M14: -0.052545 | N14: 0.039668 | O14: 0.41763219 | P14: -0.16077891 | Q14: 0.160173 | R14: 0.0674 | S14: 0.13 | T14: 2.1717 | U14: -0.1149 | V14: -0.0407 | W14: 0.1835 | X14: 0.082583 | Y14: 0.073172 | Z14: 0.262035 | AA14: 0.174982 | AB14: 0.023486 | AC14: 0.064379 | AD14: 0.028549 | AE14: 0.05005 | AF14: -0.018055 | AG14: 0.417398 | AH14: 0.032205 | AI14: 0.087771 | AJ14: 0.133635 | AK14: 0.145004 | AL14: -0.0363 | AM14: 0.0596 | AN14: 0.107 | AO14: 0.0889 | AP14: -0.0826 | AQ14: 0.2159 | AR14: -0.065 | AS14: 0.0432 | AT14: 0.277 | AU14: -0.1031 | AV14: 0.2089 | AW14: 0.2318 | AX14: 0.0859 | AY14: -0.0152 | AZ14: -0.1681 | BA14: -0.1889 | BB14: 0.0085 | BC14: -0.1161 | BD14: -0.1835 | BE14: 0.0209 | BF14: -0.1335 | BG14: -0.1841 | BH14: -0.0085 | BI14: 0.155 | BJ14: 0.0459 | BK14: 0.0451 | BL14: -0.0641 | BM14: -0.2402 | BN14: 0.203749 | BO14: 0.077174 | BP14: 0.003512 | BQ14: 0.080581 | BR14: 0.126133 | BS14: 0.127677 | BT14: 0.136401 | BU14: 0.061438 | BV14: -0.341815 | BW14: 0.349039 | BX14: -0.038727 | BY14: 0.081858 | BZ14: 0.200479 | CA14: 0.129374
A15: 1461 | B15: 2004 április | C15: 04_apr | D15: 4.95 | E15: 1197 | F15: 52.53638 | G15: 54.6077 | H15: 31.8144 | I15: 75.841632 | J15: 0.218342 | K15: 0.121399 | L15: 0.126113 | M15: 0.006793 | N15: 0.02437 | O15: 0.43934159 | P15: -0.094698519 | Q15: 0.25975207 | R15: 0.1888 | S15: 0.12 | T15: 1.7722 | U15: -0.0757 | V15: 0.1296 | W15: 0.2723 | X15: -0.023907 | Y15: 0.276689 | Z15: 0.256005 | AA15: 0.181987 | AB15: 0.265065 | AC15: 0.002065 | AD15: 0.02776 | AE15: -0.036358 | AF15: 0.482615 | AG15: 0.474757 | AH15: 0.062734 | AI15: 0.102188 | AJ15: 0.085381 | AK15: 0.169385 | AL15: 0.0684 | AM15: 0.1326 | AN15: 0.1869 | AO15: 0.1289 | AP15: 0.2449 | AQ15: 0.2625 | AR15: 0.2562 | AS15: 0.1502 | AT15: 0.355 | AU15: 0.2334 | AV15: 0.2222 | AW15: 0.2511 | AX15: 0.1266 | AY15: 0.1869 | AZ15: -0.1401 | BA15: -0.1033 | BB15: -0.1125 | BC15: -0.189 | BD15: -0.0073 | BE15: 0.0178 | BF15: 0.031 | BG15: -0.1596 | BH15: -0.0488 | BI15: 0.2391 | BJ15: 0.0799 | BK15: 0.0719 | BL15: -0.0364 | BM15: -0.1891 | BN15: 0.216413 | BO15: 0.071613 | BP15: 0.076486 | BQ15: 0.149019 | BR15: 0.134763 | BS15: 0.054259 | BT15: 0.068825 | BU15: 0.113605 | BV15: -0.005337 | BW15: 0.231214 | BX15: -0.084994 | BY15: 0.060175 | BZ15: 0.17738 | CA15: 0.184907
A16: 1527 | B16: 2004 október | C16: 04_okt | D16: 4.65 | E16: 1271 | F16: 53.68289 | G16: 52.4276 | H16: 27.9983 | I16: 78.067037 | J16: 0.098941 | K16: 0.087606 | L16: 0.069549 | M16: -0.093533 | N16: -0.030438 | O16: 0.39856454 | P16: -0.13338416 | Q16: 0.19388221 | R16: 0.1623 | S16: 0.11 | T16: 2.1612 | U16: -0.1487 | V16: 0.0628 | W16: 0.1756 | X16: -0.09242 | Y16: 0.101813 | Z16: 0.228661 | AA16: 0.162478 | AB16: 0.220477 | AC16: -0.073229 | AD16: -0.070403 | AE16: -0.000125 | AF16: 0.010571 | AG16: 0.270064 | AH16: -0.003219 | AI16: 0.006047 | AJ16: 0.043234 | AK16: 0.124362 | AL16: 0.1709 | AM16: 0.0447 | AN16: 0.1448 | AO16: 0.0727 | AP16: 0.0106 | AQ16: 0.0713 | AR16: 0.4016 | AS16: 0.0942 | AT16: 0.0432 | AU16: 0.3584 | AV16: 0.112 | AW16: 0.0481 | AX16: 0.1545 | AY16: 0.205 | AZ16: -0.1099 | BA16: -0.079 | BB16: -0.1811 | BC16: -0.1462 | BD16: 0.0251 | BE16: -0.0896 | BF16: -0.2339 | BG16: -0.161 | BH16: -0.1183 | BI16: -0.0027 | BJ16: 0.0384 | BK16: -0.0299 | BL16: -0.0868 | BM16: -0.2714 | BN16: 0.051551 | BO16: 0.048904 | BP16: 0.173977 | BQ16: 0.154978 | BR16: 0.10526 | BS16: -0.019258 | BT16: 0.003467 | BU16: 0.011258 | BV16: -0.486837 | BW16: 0.418661 | BX16: -0.064667 | BY16: 0.007323 | BZ16: 0.159954 | CA16: 0.135691
A17: 1814 | B17: 2005 április | C17: 05_apr | D17: 4.35 | E17: 1582 | F17: 55.70547 | G17: 23.1045 | H17: 24.2096 | I17: 73.545438 | J17: 0.167494 | K17: 0.108455 | L17: 0.06926 | M17: -0.099329 | N17: -0.001608 | O17: 0.3817204 | P17: -0.11539255 | Q17: 0.11595344 | R17: 0.0666 | S17: -0.06 | T17: 2.0962 | U17: -0.1912 | V17: 0.0445 | W17: 0.2896 | X17: -0.046594 | Y17: 0.116606 | Z17: 0.33684 | AA17: 0.120108 | AB17: 0.082497 | AC17: -0.026503 | AD17: 0.025165 | AE17: 0.021589 | AF17: -0.144669 | AG17: 0.326619 | AH17: -0.048743 | AI17: 0.04422 | AJ17: 0.085254 | AK17: 0.110131 | AL17: 0.0952 | AM17: -0.065 | AN17: 0.118 | AO17: -0.0064 | AP17: 0.1341 | AQ17: 0.1106 | AR17: 0.1231 | AS17: 0.0137 | AT17: -0.1382 | AU17: 0.1497 | AV17: 0.1734 | AW17: 0.0653 | AX17: 0.0985 | AY17: 0.0383 | AZ17: -0.19 | BA17: -0.304 | BB17: -0.2023 | BC17: -0.227 | BD17: -0.0678 | BE17: -0.0541 | BF17: -0.2901 | BG17: -0.2503 | BH17: -0.4347 | BI17: -0.1278 | BJ17: 0.0018 | BK17: -0.0411 | BL17: -0.1644 | BM17: -0.3132 | BN17: 0.048335 | BO17: 0.101822 | BP17: 0.26826 | BQ17: 0.13426 | BR17: -0.084273 | BS17: 0.075483 | BT17: 0.1213 | BU17: 0.046774 | BV17: -0.179362 | BW17: 0.382324 | BX17: -0.185636 | BY17: -0.043956 | BZ17: 0.136911 | CA17: 0.242957
A18: 1291 | B18: 2005 október | C18: 05_okt | D18: 4.55 | E18: 1098 | F18: 55.34604 | G18: 23.1045 | H18: 23.1514 | I18: 76.799939 | J18: 0.094758 | K18: 0.099937 | L18: 0.107036 | M18: -0.04497 | N18: 0.029551 | O18: 0.32627862 | P18: -0.14847156 | Q18: 0.15116971 | R18: 0.1394 | S18: 0.05 | T18: 2.117 | U18: -0.1162 | V18: 0.2464 | W18: 0.2172 | X18: -0.007711 | Y18: 0.153873 | Z18: 0.26478 | AA18: 0.162989 | AB18: 0.109422 | AC18: -0.038915 | AD18: 0.05778 | AE18: 0.037985 | AF18: 0.307757 | AG18: 0.342342 | AH18: -0.014032 | AI18: 0.01832 | AJ18: 0.089053 | AK18: 0.182723 | AL18: 0.0444 | AM18: 0.232 | AN18: 0.2191 | AO18: 0.1415 | AP18: -0.0129 | AQ18: 0.0585 | AR18: 0.1479 | AS18: 0.0917 | AT18: 0.1575 | AU18: 0.3607 | AV18: 0.1043 | AW18: 0.0946 | AX18: 0.1119 | AY18: 0.1677 | AZ18: -0.1899 | BA18: -0.0784 | BB18: 0.0041 | BC18: -0.0686 | BD18: -0.0433 | BE18: -0.2136 | BF18: -0.1861 | BG18: -0.1556 | BH18: -0.3262 | BI18: 0.1062 | BJ18: -0.0139 | BK18: -0.0298 | BL18: -0.045 | BM18: -0.2035 | BN18: -0.026094 | BO18: 0.043258 | BP18: 0.303456 | BQ18: 0.142574 | BR18: 0.004648 | BS18: 0.012242 | BT18: 0.091237 | BU18: 0.007348 | BV18: -0.164828 | BW18: 0.381381 | BX18: -0.072308 | BY18: -0.001093 | BZ18: 0.164006 | CA18: 0.166277
A19: 1349 | B19: 2006 április | C19: 06_apr | D19: 4.25 | E19: 1192 | F19: 52.43954 | G19: 23.7565 | H19: 30.7506 | I19: 75.693618 | J19: 0.174467 | K19: 0.186583 | L19: 0.156848 | M19: -0.037217 | N19: 0.091871 | O19: 0.40503028 | P19: -0.17112587 | Q19: 0.13480315 | R19: 0.1499 | S19: 0.14 | T19: 2.2089 | U19: 0.0163 | V19: 0.3351 | W19: 0.2633 | X19: 0.143774 | Y19: 0.052503 | Z19: 0.234104 | AA19: 0.156944 | AB19: 0.110261 | AC19: 0.124756 | AD19: 0.179801 | AE19: 0.140108 | AF19: -0.204949 | AG19: 0.296737 | AH19: 0.078603 | AI19: 0.137439 | AJ19: 0.257223 | AK19: 0.159454 | AL19: 0.1494 | AM19: 0.1771 | AN19: 0.0736 | AO19: 0.1033 | AP19: 0.0441 | AQ19: 0.016 | AR19: 0.3233 | AS19: 0.1916 | AT19: -0.484 | AU19: 0.0966 | AV19: 0.1863 | AW19: 0.1573 | AX19: 0.0821 | AY19: 0.1617 | AZ19: -0.0522 | BA19: -0.0267 | BB19: 0.1165 | BC19: 0.0029 | BD19: 0.0548 | BE19: 0.011 | BF19: -0.0008 | BG19: -0.0401 | BH19: 0.0995 | BI19: 0.1671 | BJ19: 0.0283 | BK19: 0.0611 | BL19: 0.0886 | BM19: -0.0314 | BN19: 0.024588 | BO19: 0.126705 | BP19: 0.419715 | BQ19: 0.296139 | BR19: -0.14379 | BS19: 0.047841 | BT19: 0.111394 | BU19: 0.082595 | BV19: 0.147709 | BW19: 0.504194 | BX19: -0.088488 | BY19: 0.082566 | BZ19: 0.19914 | CA19: 0.337051
A20: 1309 | B20: 2006_október | C20: 06_okt | D20: 3.8 | E20: 1118 | F20: 55.38771 | G20: 15.4256 | H20: 19.9713 | I20: 77.6983 | J20: 0.065923 | K20: 0.222706 | L20: 0.022843 | M20: 0.015776 | N20: -0.082935 | O20: 0.36185333 | P20: -0.2717748 | Q20: 0.026083061 | R20: 0.0432 | S20: 0.21 | T20: 2.123 | U20: -0.0818 | V20: 0.3976 | W20: 0.312 | X20: -0.075429 | Y20: 0.172754 | Z20: 0.208315 | AA20: 0.103293 | AB20: -0.16142 | AC20: -0.0686 | AD20: -0.021701 | AE20: -0.03433 | AF20: 0.110215 | AG20: 0.227711 | AH20: -0.199563 | AI20: -0.128771 | AJ20: 0.144676 | AK20: 0.12324 | AL20: 0.0172 | AM20: 0.1194 | AN20: 0.1406 | AO20: 0.1006 | AP20: -0.108 | AQ20: 0.0393 | AR20: -0.0353 | AS20: 0.033 | AT20: 0.0504 | AU20: 0.1613 | AV20: 0.1091 | AW20: -0.0906 | AX20: 0.0533 | AY20: 0.0586 | AZ20: -0.2029 | BA20: -0.0394 | BB20: 0.2235 | BC20: -0.0213 | BD20: -0.1468 | BE20: -0.1705 | BF20: -0.1384 | BG20: -0.1294 | BH20: 0.1092 | BI20: 0.0821 | BJ20: -0.1077 | BK20: -0.175 | BL20: 0.0097 | BM20: -0.0736 | BN20: 0.104704 | BO20: 0.285969 | BP20: 0.483279 | BQ20: 0.302408 | BR20: 0.103061 | BS20: 0.146189 | BT20: 0.166149 | BU20: 0.140368 | BV20: 0.414355 | BW20: 0.500947 | BX20: -0.106467 | BY20: 0.050546 | BZ20: 0.281578 | CA20: 0.400297
A21: 1433 | B21: 2007_április | C21: 07_apr | D21: 1 | E21: 1223 | F21: 55.94598 | G21: 52.4276 | H21: 24.3611 | I21: 78.490033 | J21: 0.117619 | K21: 0.200718 | L21: 0.051971 | M21: -0.008982 | N21: -0.050687 | O21: 0.36482836 | P21: -0.18598631 | Q21: 0.080719723 | R21: 0.0172 | S21: 0.08 | T21: 2.128 | U21: -0.0877 | V21: 0.3348 | W21: 0.2242 | X21: 0.020176 | Y21: 0.077013 | Z21: 0.175173 | AA21: 0.10202 | AB21: -0.138102 | AC21: -0.003407 | AD21: 0.075448 | AE21: 0.030633 | AF21: -0.310262 | AG21: 0.277976 | AH21: -0.027177 | AI21: 0.096842 | AJ21: 0.129514 | AK21: 0.040525 | AL21: -0.0317 | AM21: 0.0556 | AN21: 0.0329 | AO21: 0.0329 | AP21: -0.1852 | AQ21: 0.1941 | AR21: -0.0271 | AS21: 0.036 | AT21: -0.4078 | AU21: 0.0843 | AV21: 0.032 | AW21: 0.1699 | AX21: 0.1002 | AY21: -0.055 | AZ21: -0.1707 | BA21: -0.106 | BB21: 0.0716 | BC21: -0.0021 | BD21: -0.1972 | BE21: -0.0746 | BF21: -0.1707 | BG21: -0.1568 | BH21: -0.3014 | BI21: 0.2154 | BJ21: -0.019 | BK21: -0.0218 | BL21: 0.0137 | BM21: -0.1865 | BN21: 0.026289 | BO21: 0.301245 | BP21: 0.509695 | BQ21: 0.332011 | BR21: 0.001102 | BS21: 0.075633 | BT21: 0.101061 | BU21: 0.095538 | BV21: 0.09974 | BW21: 0.661788 | BX21: -0.106621 | BY21: 0.042837 | BZ21: 0.157392 | CA21: 0.419213
A22: 1217 | B22: 2007_október | C22: 07_okt | D22: -0.05 | E22: 1079 | F22: 56.41263 | G22: 15.4256 | H22: 15.8217 | I22: 77.577368 | J22: 0.037563 | K22: 0.139431 | L22: -0.052098 | M22: -0.089319 | N22: -0.125079 | O22: 0.30844043 | P22: -0.19384119 | Q22: 0.058336853 | R22: 0.0904 | S22: 0.05 | T22: 2.0144 | U22: -0.0895 | V22: 0.282 | W22: 0.275 | X22: -0.144467 | Y22: -0.001488 | Z22: 0.116259 | AA22: 0.085917 | AB22: -0.086749 | AC22: -0.193225 | AD22: -0.169637 | AE22: -0.105535 | AF22: 0.144711 | AG22: 0.127671 | AH22: -0.196924 | AI22: -0.062468 | AJ22: 0.094735 | AK22: -0.044375 | AL22: -0.0277 | AM22: 0.2137 | AN22: 0.1623 | AO22: 0.1635 | AP22: 0.0796 | AQ22: 0.2127 | AR22: -0.0994 | AS22: 0.0356 | AT22: 0.0985 | AU22: 0.2582 | AV22: 0.1748 | AW22: 0.1138 | AX22: 0.0836 | AY22: 0.068 | AZ22: -0.2485 | BA22: -0.0573 | BB22: 0.176 | BC22: 0.0663 | BD22: -0.1278 | BE22: -0.1342 | BF22: -0.3002 | BG22: -0.1623 | BH22: 0.0472 | BI22: 0.172 | BJ22: -0.0663 | BK22: -0.1104 | BL22: -0.0253 | BM22: -0.1204 | BN22: -0.041825 | BO22: 0.193972 | BP22: 0.5082 | BQ22: 0.298024 | BR22: -0.021083 | BS22: -0.054964 | BT22: -0.007491 | BU22: 0.013999 | BV22: 0.224142 | BW22: 0.625741 | BX22: -0.11758 | BY22: -0.005101 | BZ22: 0.215499 | CA22: 0.284191
A23: 1145 | B23: 2008_április | C23: 08_apr | D23: 1.75 | E23: 986 | F23: 56.53752 | G23: 52.4276 | H23: 27.1599 | I23: 77.749629 | J23: 0.134663 | K23: 0.16065 | L23: 0.091152 | M23: -0.033981 | N23: 0.000699 | O23: 0.42752624 | P23: -0.21837331 | Q23: 0.05618085 | R23: 0.0925 | S23: 0.04 | T23: 2.152 | U23: -0.035 | V23: 0.2909 | W23: 0.3411 | X23: -0.090623 | Y23: 0.281928 | Z23: 0.296165 | AA23: 0.105628 | AB23: -0.040795 | AC23: 0.060597 | AD23: 0.090089 | AE23: 0.039416 | AF23: 0.329758 | AG23: 0.249342 | AH23: 0.00053 | AI23: -0.081171 | AJ23: 0.082534 | AK23: 0.2 | AL23: -0.0118 | AM23: 0.195 | AN23: 0.2033 | AO23: 0.0756 | AP23: 0.1147 | AQ23: 0.1586 | AR23: 0.024 | AS23: 0.0347 | AT23: 0.0695 | AU23: 0.2569 | AV23: 0.0605 | AW23: 0.1844 | AX23: 0.1835 | AY23: 0.0424 | AZ23: -0.1503 | BA23: 0.0341 | BB23: 0.1223 | BC23: -0.0285 | BD23: -0.0935 | BE23: -0.02 | BF23: -0.0308 | BG23: -0.0849 | BH23: -0.2378 | BI23: 0.1619 | BJ23: -0.0062 | BK23: -0.1284 | BL23: -0.0429 | BM23: -0.0115 | BN23: -0.008167 | BO23: 0.273607 | BP23: 0.42407 | BQ23: 0.210107 | BR23: -0.080413 | BS23: 0.137004 | BT23: 0.081876 | BU23: 0.077881 | BV23: -0.004316 | BW23: 0.459432 | BX23: -0.080593 | BY23: 0.000601 | BZ23: 0.184605 | CA23: 0.320112
A24: 1480 | B24: 2008_október | C24: 08_okt | D24: -0.45 | E24: 1264 | F24: 60.24623 | G24: 13.2455 | H24: -3.1047 | I24: 78.692226 | J24: -0.112436 | K24: 0.121932 | L24: -0.225653 | M24: -0.015404 | N24: -0.205364 | O24: 0.17586866 | P24: -0.36964718 | Q24: -0.070165051 | R24: -0.0209 | S24: -0.02 | T24: 1.8269 | U24: -0.1443 | V24: 0.025 | W24: -0.1615 | X24: -0.221123 | Y24: -0.158727 | Z24: -0.303896 | AA24: -0.297569 | AB24: -0.027939 | AC24: -0.208565 | AD24: -0.13018 | AE24: -0.222117 | AF24: -0.082581 | AG24: -0.253503 | AH24: -0.226701 | AI24: -0.263135 | AJ24: -0.21093 | AK24: -0.217935 | AL24: 0.0708 | AM24: -0.1563 | AN24: -0.0178 | AO24: -0.0316 | AP24: -0.1588 | AQ24: 0.0372 | AR24: -0.0458 | AS24: 0.0016 | AT24: -0.4116 | AU24: -0.0454 | AV24: 0.0565 | AW24: -0.0724 | AX24: -0.0533 | AY24: -0.0162 | AZ24: -0.1211 | BA24: -0.1872 | BB24: -0.1585 | BC24: -0.1902 | BD24: -0.1466 | BE24: -0.1147 | BF24: -0.0798 | BG24: -0.1632 | BH24: -0.2433 | BI24: -0.0699 | BJ24: -0.067 | BK24: -0.1084 | BL24: -0.1621 | BM24: -0.1877 | BN24: 0.088992 | BO24: 0.119174 | BP24: 0.237237 | BQ24: 0.100786 | BR24: 0.055907 | BS24: 0.140401 | BT24: 0.141759 | BU24: 0.063327 | BV24: -0.065498 | BW24: 0.343681 | BX24: -0.090609 | BY24: 0.005218 | BZ24: 0.076004 | CA24: 0.285424
... A43: 3274 | B43: 2018_április | C43: 18_apr | D43: 4.75 | E43: 2485 | F43: 39.376804 | G43: 60.436342 | H43: 52.614651 | I43: 85.441736 | J43: 0.30187986 | K43: 0.49136457 | L43: 0.42095064 | M43: 0.35028257 | N43: 0.33101612 | O43: 0.56426262 | P43: -0.17102355 | Q43: 0.078734209 | R43: 0.24981106 | S43: 0.3802614 | T43: 2.3646275 | U43: 0.19540996 | V43: 0.50906594 | W43: 0.39048502 | X43: 0.34916353 | Y43: 0.40681376 | Z43: 0.63655148 | AA43: 0.51800714 | AB43: 0.409031 | AC43: 0.35109281 | AD43: 0.36120063 | AE43: 0.34526259 | AF43: 0.51215656 | AG43: 0.63642608 | AH43: 0.15717504 | AI43: 0.34397314 | AJ43: 0.48383376 | AK43: 0.541071 | AL43: 0.21523292 | AM43: 0.26249962 | AN43: 0.29779644 | AO43: 0.23358955 | AP43: 0.35831939 | AQ43: 0.20980348 | AR43: 0.27472836 | AS43: 0.2704466 | AT43: 0.10051431 | AU43: 0.2182876 | AV43: 0.24870408 | AW43: 0.34166272 | AX43: 0.26803985 | AY43: 0.21088323 | AZ43: 0.17502274 | BA43: 0.23827299 | BB43: 0.20940375 | BC43: 0.20620435 | BD43: 0.22603063 | BE43: 0.14533691 | BF43: 0.20047313 | BG43: 0.19363155 | BH43: 0.17703101 | BI43: 0.20523589 | BJ43: 0.11170029 | BK43: 0.23555474 | BL43: 0.25308074 | BM43: 0.19013785 | BN43: 0.42032107 | BO43: 0.54054489 | BP43: 0.66448983 | BQ43: 0.59285252 | BR43: 0.43362152 | BS43: 0.4979586 | BT43: 0.39801494 | BU43: 0.41061444 | BV43: 0.44580449 | BW43: 0.75356172 | BX43: 0.13820479 | BY43: 0.39623706 | BZ43: 0.61589876 | CA43: 0.63760436
A44: 2830 | B44: 2018_október | C44: 18_okt | E44: 1934 | F44: 37.122387 | G44: 60.47533 | H44: 55.491891 | I44: 86.21 | J44: 0.2862 | K44: 0.4982 | L44: 0.4295 | M44: 0.3837 | N44: 0.3075 | O44: 0.5545 | P44: 0.0185 | Q44: 0.3594 | R44: 0.2637 | S44: 0.3921 | T44: 2.34 | U44: 0.1748 | V44: 0.4754 | W44: 0.3071 | X44: 0.35795317 | Y44: 0.40284845 | Z44: 0.59684612 | AA44: 0.54620917 | AB44: 0.48484906 | AC44: 0.43113596 | AD44: 0.25369146 | AE44: 0.36564627 | AF44: 0.54163747 | AG44: 0.59625745 | AH44: 0.1507131 | AI44: 0.40657135 | AJ44: 0.53723614 | AK44: 0.51827616 | AL44: 0.24319468 | AM44: 0.27713417 | AN44: 0.27692134 | AO44: 0.3012795 | AP44: 0.39244516 | AQ44: 0.23776424 | AR44: 0.17696973 | AS44: 0.26930546 | AT44: 0.15869461 | AU44: 0.24290698 | AV44: 0.17439099 | AW44: 0.28252517 | AX44: 0.31121795 | AY44: 0.26710063 | AZ44: 0.13006009 | BA44: 0.20087201 | BB44: 0.23569542 | BC44: 0.22964919 | BD44: 0.18311364 | BE44: 0.1710624 | BF44: 0.10167391 | BG44: 0.16048174 | BH44: 0.19661433 | BI44: 0.20981146 | BJ44: 0.073418247 | BK44: 0.21592285 | BL44: 0.17484067 | BM44: 0.20245117 | BN44: 0.41898358 | BO44: 0.52409542 | BP44: 0.64911316 | BQ44: 0.6127783 | BR44: 0.50644427 | BS44: 0.48963523 | BT44: 0.34855597 | BU44: 0.43607306 | BV44: 0.35007661 | BW44: 0.70844389 | BX44: 0.1771772 | BY44: 0.51947005 | BZ44: 0.61529862 | CA44: 0.58933056

Sheet összefoglaló
A1: Oszlop1 | B1: GDP | C1: GVI Konjunktúramutató | E1: A GDP és a GVI konjunktúra mutató alakulása
A2: 98_jun | B2: 4.4 | C2: =alapadatok!H3 -> 38.2293
A3: 98_dec | B3: 4 | C3: =alapadatok!H4 -> 31.2894
A4: 99_jun | B4: 2.5 | C4: =alapadatok!H5 -> 27.5053
A5: 99_dec | B5: 3.65 | C5: =alapadatok!H6 -> 33.9359
A6: 00_jun | B6: 4.75 | C6: =alapadatok!H7 -> 34.3594
A7: 00_okt | B7: 4 | C7: =alapadatok!H8 -> 31.9999
A8: 01_maj | B8: 4.2 | C8: =alapadatok!H9 -> 46.4947
A9: 01_okt | B9: 3.7 | C9: =alapadatok!H10 -> 25.0886
A10: 02_apr | B10: 4.5 | C10: =alapadatok!H11 -> 39.7112
A11: 02_okt | B11: 4.55 | C11: =alapadatok!H12 -> 34.7113
A12: 03_apr | B12: 3.45 | C12: =alapadatok!H13 -> 32.4142
A13: 03_okt | B13: 4 | C13: =alapadatok!H14 -> 28.0884
... A34: 14_apr | B34: 4.35 | C34: =alapadatok!H35 -> 29.68
A35: 14_okt | B35: 3.85 | C35: =alapadatok!H36 -> 33.513148 | G35: 2017. ápr. | H35: 2017. okt. | I35: 2018. ápr. | J35: 2018. okt. | M35: Apr. 2017 | N35: Oct. 2017 | O35: Apr. 2018 | P35: Oct. 2018
A36: 15_apr | B36: 3.75 | C36: =alapadatok!H37 -> 41.97283 | F36: GDP | G36: 4.05 | H36: 4.7 | I36: 4.75 | L36: GDP | M36: 4.05 | N36: 4.7 | O36: 4.75
A37: 15_okt | B37: 3.2 | C37: =alapadatok!H38 -> 44.512493 | F37: GVI Konjunktúramutató | G37: 46.763076 | H37: 49.0319 | I37: 52.614651 | J37: 55.491891 | L37: IEER Business Climate Index | M37: 46.763076 | N37: 49.0319 | O37: 52.614651 | P37: 55.491891
A38: 16_apr | B38: 2.05 | C38: =alapadatok!H39 -> 49.277527
A39: 16_okt | B39: 2.35 | C39: =alapadatok!H40 -> 47.6147
A40: 17_apr | B40: 4.05 | C40: =alapadatok!H41 -> 46.763076
A41: 17_okt | B41: 4.7 | C41: =alapadatok!H42 -> 49.0319
A42: 18_apr | B42: 4.75 | C42: 52.614651
A43: 18_okt | C43: =alapadatok!H44 -> 55.491891
B44: GDP adatok = szezonálisan és naptári hatással kiigazított, kiegyensúlyozott adatokból számolt, féléves növekedési ütemek, előző év = 0,0 | C44: IEER Business Climate Index
A46: Félévekre átszámítva | B46: http://www.ksh.hu/docs/hun/xstadat/xstadat_evkozi/e_qpt001.html

Sheet 1.1. ábra
A1: Oszlop1 | B1: Németország | C1: Euróövezet | G1: Németország és az euróövezet GDP-jének alakulása
A3: 2015 | B3: 1.7 | C3: 2.3
A4: 2016 | B4: 2.2 | C4: 1.9
A5: 2017 | B5: 2.2 | C5: 2.5
A6: 2018 | B6: 1.7 | C6: 2
A7: 2019* | B7: 1.9 | C7: 1.8
A8: 2020* | B8: 1.8 | C8: 1.6
K9: 2018
K10: Németország | L10: Euró övezet
K11: 1.6 | L11: 1.5
A16: Forrás: CESifo 2018
A17: https://www.cesifo-group.de/ifoHome/facts/Forecasts/Gemeinschaftsdiagnose/Archiv/GD-20180927.html
A18: Archívum:
A19: https://www.cesifo-group.de/ifoHome/facts/Forecasts/Gemeinschaftsdiagnose/Archiv.html

Sheet 1.2. és 1.3. ábra
AK1: A GDP változása a válság kezdetéhez képest (2008 I. negyedév=100%)
F2: Forrás Magyarország és Németország kivételével: Eurostat | J2: Forrás: Magyarország és Németország kivételével: Eurostat (GDP and main components (output, expenditure and income) [namq_10_gdp])
J3: Chain linked volumes, percentage change on previous period
B4: dátum: 2016.05.03. | J4: Seasonally and calendar adjusted data
A5: dátum: 2018.04.18. | J5: Gross domestic product at market prices
B10: Magyarország | I10: Németország
B11: Forrás: KSH (http://www.ksh.hu/docs/hun/xstadat/xstadat_evkozi/e_qpt008b.html) | I11: Forrás: Destatis (https://www.destatis.de/EN/FactsFigures/NationalEconomyEnvironment/NationalAccounts/DomesticProduct/Tables/GDPQuarterly1970_xls.html)
B12: Szezonálisan és naptári hatással kiigazított és kiegyensúlyozott adatok (előző negyedév=100,0) | I12: Szezonálisan és naptári hatással kiigazított és kiegyensúlyozott adatok (előző negyedév=100,0)
D13: Eredeti GDP volumenindex | L13: Eredeti GDP volumenindex | U13: Ábrákhoz: | AF13: No-Mo ábrához:
D14: I | E14: I/100 | F14: láncindex | G14: 2008 = 100% | H14: változás 2008 első negyedévéhez képest | L14: I | M14: I/100 | N14: láncindex | O14: 2008=100% | P14: Változás 2008-hoz képest | V14: Hungary | W14: Germany | X14: Czech Republic | Y14: Slovakia | Z14: Poland | AA14: Romania | AB14: Slovenia | AC14: EU-28 | AG14: Hungary | AH14: Germany
B15: 2008 | C15: I | D15: 100.7 | E15: 1.007 | F15: 1 | G15: 100 | H15: 0 | J15: 2008 | K15: I | L15: 100.86555 | M15: 1.0086555 | N15: 1 | O15: 100 | P15: 0 | Q15: 100.9 | R15: 100.9 | V15: Magyarország | W15: Németország | X15: Cseh Köztársaság | Y15: Szlovákia | Z15: Lengyelország | AA15: Románia | AB15: Szlovénia | AC15: EU-28 | AG15: Magyarország | AH15: Németország
C16: II | D16: 100.5 | E16: 1.005 | F16: 1.005 | G16: 100.5 | H16: 0.5 | K16: II | L16: 99.70746 | M16: 0.9970746 | N16: 0.9970746 | O16: 99.70746 | P16: -0.29254022 | Q16: 99.7 | R16: 99.7 | T16: 2008 | U16: I | V16: 0 | W16: 0 | X16: 0 | Y16: 0 | Z16: 0 | AA16: 0 | AB16: 0 | AC16: 0 | AE16: 2008 | AF16: I | AG16: 0 | AH16: 0
C17: III | D17: 99.8 | E17: 0.998 | F17: 1.00299 | G17: 100.299 | H17: 0.299 | K17: III | L17: 99.657702 | M17: 0.99657702 | N17: 0.99366163 | O17: 99.366163 | P17: -0.63383715 | Q17: 99.6 | R17: 99.7 | U17: II | V17: 0.5 | W17: -0.29254022 | X17: 0.8 | Y17: 1.2 | Z17: 0.4 | AA17: 2.4 | AB17: 1.1 | AC17: -0.3 | AF17: II | AG17: 0.5 | AH17: -0.29254022
C18: IV | D18: 96.7 | E18: 0.967 | F18: 0.96989133 | G18: 96.989133 | H18: -3.010867 | K18: IV | L18: 98.066732 | M18: 0.98066732 | N18: 0.97445149 | O18: 97.445149 | P18: -2.5548513 | Q18: 98.1 | R18: 98.1 | U18: III | V18: 0.299 | W18: -0.63383715 | X18: 1.1024 | Y18: 2.5156 | Z18: -0.102 | AA18: 3.3216 | AB18: 0.7967 | AC18: -0.9979 | AF18: III | AG18: 0.299 | AH18: -0.63383715
B19: 2009 | C19: I | D19: 95.9 | E19: 0.959 | F19: 0.93012579 | G19: 93.012579 | H19: -6.9874215 | J19: 2009 | K19: I | L19: 95.506855 | M19: 0.95506855 | N19: 0.93066797 | O19: 93.066797 | P19: -6.9332033 | Q19: 95.5 | R19: 95.5 | U19: IV | V19: -3.010867 | W19: -2.5548513 | X19: -0.6163408 | Y19: 3.540756 | Z19: 0.197694 | AA19: 1.771776 | AB19: -3.0335746 | AC19: -2.7799378 | AF19: IV | AG19: -3.010867 | AH19: -2.5548513
C20: II | D20: 99.8 | E20: 0.998 | F20: 0.92826553 | G20: 92.826553 | H20: -7.1734466 | K20: II | L20: 100.07334 | M20: 1.0007334 | N20: 0.93135056 | O20: 93.135056 | P20: -6.8649439 | Q20: 100.1 | R20: 100.1 | T20: 2009 | U20: I | V20: -6.9874215 | W20: -6.9332033 | X20: -4.0947689 | Y20: -5.8814528 | Z20: 1.9010548 | AA20: -5.4540201 | AB20: -7.3970637 | AC20: -5.4048795 | AE20: 2009 | AF20: I | AG20: -6.9874215 | AH20: -6.9332033
C21: III | D21: 100 | E21: 1 | F21: 0.92826553 | G21: 92.826553 | H21: -7.1734466 | K21: III | L21: 100.61774 | M21: 1.0061774 | N21: 0.93710385 | O21: 93.710385 | P21: -6.2896148 | Q21: 100.6 | R21: 100.6 | U21: II | V21: -7.1734466 | W21: -6.8649439 | X21: -4.8620107 | Y21: -4.4696746 | Z21: 1.9010548 | AA21: -5.1703822 | AB21: -8.508299 | AC21: -5.5940697 | AF21: II | AG21: -7.1734466 | AH21: -6.8649439
C22: IV | D22: 100 | E22: 1 | F22: 0.92826553 | G22: 92.826553 | H22: -7.1734466 | K22: IV | L22: 100.90531 | M22: 1.0090531 | N22: 0.94558752 | O22: 94.558752 | P22: -5.4412482 | Q22: 100.9 | R22: 100.9 | U22: III | V22: -7.1734466 | W22: -6.2896148 | X22: -4.3863208 | Y22: -3.0367197 | Z22: 2.5124611 | AA22: -3.463449 | AB22: -8.3253156 | AC22: -5.3108519 | AF22: III | AG22: -7.1734466 | AH22: -6.2896148
B23: 2010 | C23: I | D23: 99.8 | E23: 0.998 | F23: 0.926409 | G23: 92.6409 | H23: -7.3590997 | J23: 2010 | K23: I | L23: 100.71156 | M23: 1.0071156 | N23: 0.95231594 | O23: 95.231594 | P23: -4.7684057 | Q23: 100.7 | R23: 100.7 | U23: IV | V23: -7.1734466 | W23: -5.4412482 | X23: -4.1950934 | Y23: -1.3883439 | Z23: 4.9727602 | AA23: -2.8842297 | AB23: -8.5086649 | AC23: -4.8374062 | AF23: IV | AG23: -7.1734466 | AH23: -5.4412482
C24: II | D24: 100.6 | E24: 1.006 | F24: 0.93196746 | G24: 93.196746 | H24: -6.8032543 | K24: II | L24: 102.05816 | M24: 1.0205816 | N24: 0.97191614 | O24: 97.191614 | P24: -2.8083862 | Q24: 102 | R24: 102.1 | T24: 2010 | U24: I | V24: -7.3590997 | W24: -4.7684057 | X24: -3.5244591 | Y24: -0.10639241 | Z24: 4.3429236 | AA24: -7.3515552 | AB24: -8.3256823 | AC24: -4.4567558 | AE24: 2010 | AF24: I | AG24: -7.3590997 | AH24: -4.7684057
C25: III | D25: 100.6 | E25: 1.006 | F25: 0.93755926 | G25: 93.755926 | H25: -6.2440738 | K25: III | L25: 100.82271 | M25: 1.0082271 | N25: 0.97991224 | O25: 97.991224 | P25: -2.0087762 | Q25: 100.8 | R25: 100.8 | U25: II | V25: -6.8032543 | W25: -2.8083862 | X25: -2.5597037 | Y25: 0.79265006 | Z25: 5.9080675 | AA25: -6.8883129 | AB25: -7.4089391 | AC25: -3.5968666 | AF25: II | AG25: -6.8032543 | AH25: -2.8083862
C26: IV | D26: 100.1 | E26: 1.001 | F26: 0.93849682 | G26: 93.849682 | H26: -6.1503179 | K26: IV | L26: 100.82595 | M26: 1.0082595 | N26: 0.98800585 | O26: 98.800585 | P26: -1.1994149 | Q26: 100.8 | R26: 100.8 | U26: III | V26: -6.2440738 | W26: -2.0087762 | X26: -2.0725022 | Y26: 1.8005766 | Z26: 7.3907804 | AA26: -7.7263181 | AB26: -6.9459838 | AC26: -3.1148509 | AF26: III | AG26: -6.2440738 | AH26: -2.0087762
B27: 2011 | C27: I | D27: 100.8 | E27: 1.008 | F27: 0.9460048 | G27: 94.60048 | H27: -5.3995205 | J27: 2011 | K27: I | L27: 101.74694 | M27: 1.0174694 | N27: 1.0052657 | O27: 100.52657 | P27: 0.5265724 | Q27: 101.8 | R27: 101.7 | U27: IV | V27: -6.1503179 | W27: -1.1994149 | X27: -1.5828647 | Y27: 2.41138 | Z27: 8.4646882 | AA27: -5.7885708 | AB27: -6.2946057 | AC27: -2.5335401 | AF27: IV | AG27: -6.1503179 | AH27: -1.1994149
C28: II | D28: 100 | E28: 1 | F28: 0.9460048 | G28: 94.60048 | H28: -5.3995205 | K28: II | L28: 100.19401 | M28: 1.0019401 | N28: 1.007216 | O28: 100.7216 | P28: 0.72159922 | Q28: 100.2 | R28: 100.2 | T28: 2011 | U28: I | V28: -5.3995205 | W28: 0.5265724 | X28: -0.89394474 | Y28: 3.0258483 | Z28: 9.8747292 | AA28: -5.8827822 | AB28: -6.2946057 | AC28: -1.7538084 | AE28: 2011 | AF28: I | AG28: -5.3995205 | AH28: 0.5265724
C29: III | D29: 100.3 | E29: 1.003 | F29: 0.94884281 | G29: 94.884281 | H29: -5.115719 | K29: III | L29: 100.49376 | M29: 1.0049376 | N29: 1.0121892 | O29: 101.21892 | P29: 1.2189176 | Q29: 100.5 | R29: 100.5 | U29: II | V29: -5.3995205 | W29: 0.72159922 | X29: -0.69573263 | Y29: 3.8500551 | Z29: 11.303101 | AA29: -5.788665 | AB29: -5.9197841 | AC29: -1.6555622 | AF29: II | AG29: -5.3995205 | AH29: 0.72159922
C30: IV | D30: 100.8 | E30: 1.008 | F30: 0.95643355 | G30: 95.643355 | H30: -4.3566448 | K30: IV | L30: 100.00963 | M30: 1.0000963 | N30: 1.0122867 | O30: 101.22867 | P30: 1.2286689 | Q30: 100 | R30: 100 | U30: III | V30: -5.115719 | W30: 1.2189176 | X30: -0.89434117 | Y30: 4.3693054 | Z30: 12.750041 | AA30: -3.9986496 | AB30: -6.296105 | AC30: -1.5572177 | AF30: III | AG30: -5.115719 | AH30: 1.2189176
B31: 2012 | C31: I | D31: 97.8 | E31: 0.978 | F31: 0.93539201 | G31: 93.539201 | H31: -6.4607986 | J31: 2012 | K31: I | L31: 100.26972 | M31: 1.0026972 | N31: 1.0150171 | O31: 101.50171 | P31: 1.5017065 | Q31: 100.3 | R31: 100.3 | U31: IV | V31: -4.3566448 | W31: 1.2286689 | X31: -0.69612985 | Y31: 5.2042598 | Z31: 13.652041 | AA31: -4.9586632 | AB31: -7.0457361 | AC31: -1.7541033 | AF31: IV | AG31: -4.3566448 | AH31: 1.2286689
C32: II | D32: 99.7 | E32: 0.997 | F32: 0.93258584 | G32: 93.258584 | H32: -6.7414162 | K32: II | L32: 100.12489 | M32: 1.0012489 | N32: 1.0162847 | O32: 101.62847 | P32: 1.6284739 | Q32: 100.1 | R32: 100.1 | T32: 2012 | U32: I | V32: -6.4607986 | W32: 1.5017065 | X32: -0.79543372 | Y32: 5.5198726 | Z32: 13.765693 | AA32: -4.6735391 | AB32: -7.3245989 | AC32: -1.7541033 | AE32: 2012 | AF32: I | AG32: -6.4607986 | AH32: 1.5017065 | AK32: Magyarország és Németország GDP-jének változása a válság kezdetéhez képest (2008 I. negyedév=100%)
C33: III | D33: 100.4 | E33: 1.004 | F33: 0.93631618 | G33: 93.631618 | H33: -6.3683819 | K33: III | L33: 100.28785 | M33: 1.0028785 | N33: 1.0192101 | O33: 101.92101 | P33: 1.9210141 | Q33: 100.2 | R33: 100.3 | U33: II | V33: -6.7414162 | W33: 1.6284739 | X33: -1.2914566 | Y33: 5.8364322 | Z33: 13.538162 | AA33: -2.9576628 | AB33: -8.6220545 | AC33: -1.9505951 | AF33: II | AG33: -6.7414162 | AH33: 1.6284739
C34: IV | D34: 99.8 | E34: 0.998 | F34: 0.93444355 | G34: 93.444355 | H34: -6.5556451 | K34: IV | L34: 99.521623 | M34: 0.99521623 | N34: 1.0143345 | O34: 101.43345 | P34: 1.4334471 | Q34: 99.6 | R34: 99.5 | U34: III | V34: -6.3683819 | W34: 1.9210141 | X34: -1.7849993 | Y34: 6.0481051 | Z34: 14.105853 | AA34: -4.3162556 | AB34: -9.0789443 | AC34: -1.8525457 | AF34: III | AG34: -6.3683819 | AH34: 1.9210141
B35: 2013 | C35: I | D35: 100.7 | E35: 1.007 | F35: 0.94098465 | G35: 94.098465 | H35: -5.9015346 | J35: 2013 | K35: I | L35: 99.721207 | M35: 0.99721207 | N35: 1.0115066 | O35: 101.15066 | P35: 1.1506582 | Q35: 99.8 | R35: 99.7 | U35: IV | V35: -6.5556451 | W35: 1.4334471 | X35: -2.0796443 | Y35: 6.1541532 | Z35: 13.649429 | AA35: -3.6464694 | AB35: -10.169997 | AC35: -2.2451355 | AF35: IV | AG35: -6.5556451 | AH35: 1.4334471
C36: II | D36: 100.9 | E36: 1.009 | F36: 0.94945352 | G36: 94.945352 | H36: -5.0546484 | K36: II | L36: 100.92548 | M36: 1.0092548 | N36: 1.0208679 | O36: 102.08679 | P36: 2.0867869 | Q36: 100.9 | R36: 100.9 | T36: 2013 | U36: I | V36: -5.9015346 | W36: 1.1506582 | X36: -2.569246 | Y36: 6.5787698 | Z36: 13.876728 | AA36: -2.5865805 | AB36: -10.349657 | AC36: -2.3428904 | AE36: 2013 | AF36: I | AG36: -5.9015346 | AH36: 1.1506582 | AK36: =AG36-AH36 -> -7.0521928
C37: III | D37: 101.3 | E37: 1.013 | F37: 0.96179641 | G37: 96.179641 | H37: -3.8203588 | K37: III | L37: 100.56357 | M37: 1.0056357 | N37: 1.0266212 | O37: 102.66212 | P37: 2.662116 | Q37: 100.5 | R37: 100.6 | U37: II | V37: -5.0546484 | W37: 2.0867869 | X37: -2.3743845 | Y37: 7.1116636 | Z37: 15.129372 | AA37: -1.0279658 | AB37: -10.349657 | AC37: -1.8546048 | AF37: II | AG37: -5.0546484 | AH37: 2.0867869 | AK37: =AG37-AH37 -> -7.1414354
C38: IV | D38: 101.1 | E38: 1.011 | F38: 0.97237617 | G38: 97.237617 | H38: -2.7623828 | K38: IV | L38: 100.37994 | M38: 1.0037994 | N38: 1.0305217 | O38: 103.05217 | P38: 3.0521697 | Q38: 100.4 | R38: 100.4 | U38: III | V38: -3.8203588 | W38: 2.662116 | X38: -2.0815077 | Y38: 7.7543336 | Z38: 16.050407 | AA38: -0.23618953 | AB38: -9.8117549 | AC38: -1.3638779 | AF38: III | AG38: -3.8203588 | AH38: 2.662116 | AK38: =AG38-AH38 -> -6.4824749
B39: 2014 | C39: I | D39: 100.9 | E39: 1.009 | F39: 0.98112756 | G39: 98.112756 | H39: -1.8872442 | J39: 2014 | K39: I | L39: 100.99357 | M39: 1.0099357 | N39: 1.0407606 | O39: 104.07606 | P39: 4.0760605 | Q39: 100.9 | R39: 101 | U39: IV | V39: -2.7623828 | W39: 3.0521697 | X39: -0.80856729 | Y39: 8.5086139 | Z39: 16.166458 | AA39: 1.2602676 | AB39: -8.6393077 | AC39: -1.0679695 | AF39: IV | AG39: -2.7623828 | AH39: 3.0521697 | AK39: =AG39-AH39 -> -5.8145525
C40: II | D40: 101.2 | E40: 1.012 | F40: 0.99290109 | G40: 99.290109 | H40: -0.70989117 | K40: II | L40: 99.943783 | M40: 0.99943783 | N40: 1.0401755 | O40: 104.01755 | P40: 4.0175524 | Q40: 99.8 | R40: 99.9 | T40: 2014 | U40: I | V40: -1.8872442 | W40: 4.0760605 | X40: -1.0069502 | Y40: 9.2681742 | Z40: 17.328122 | AA40: 1.5640484 | AB40: -8.3652256 | AC40: -0.57330934 | AE40: 2014 | AF40: I | AG40: -1.8872442 | AH40: 4.0760605 | AK40: =AG40-AH40 -> -5.9633047
C41: III | D41: 100.9 | E41: 1.009 | F41: 1.0018372 | G41: 100.18372 | H41: 0.18371981 | K41: III | L41: 100.34686 | M41: 1.0034686 | N41: 1.0437835 | O41: 104.37835 | P41: 4.378352 | Q41: 100.3 | R41: 100.3 | U41: II | V41: -0.70989117 | W41: 4.0175524 | X41: -0.11601271 | Y41: 10.033051 | Z41: 18.618732 | AA41: 1.7671765 | AB41: -7.4488779 | AC41: -0.17560258 | AF41: II | AG41: -0.70989117 | AH41: 4.0175524 | AK41: =AG41-AH41 -> -4.7274436
C42: IV | D42: 100.6 | E42: 1.006 | F42: 1.0078482 | G42: 100.78482 | H42: 0.78482213 | K42: IV | L42: 100.96226 | M42: 1.0096226 | N42: 1.0538274 | O42: 105.38274 | P42: 5.3827401 | Q42: 100.9 | R42: 101 | U42: III | V42: 0.18371981 | W42: 4.378352 | X42: 1.1824791 | Y42: 10.913316 | Z42: 19.6863 | AA42: 3.4972185 | AB42: -6.8935711 | AC42: 0.32351941 | AF42: III | AG42: 0.18371981 | AH42: 4.378352 | AK42: =AG42-AH42 -> -4.1946322
B43: 2015 | C43: I | D43: 101.5 | E43: 1.015 | F43: 1.0229659 | G43: 102.29659 | H43: 2.2965945 | J43: 2015 | K43: I | L43: 99.861201 | M43: 0.99861201 | N43: 1.0523647 | O43: 105.23647 | P43: 5.23647 | Q43: 100.1 | R43: 99.9 | U43: IV | V43: 0.78482213 | W43: 5.3827401 | X43: 2.4978514 | Y43: 11.800622 | Z43: 20.284732 | AA43: 4.4286935 | AB43: -6.6142519 | AC43: 0.92546053 | AF43: IV | AG43: 0.78482213 | AH43: 5.3827401 | AK43: =AG43-AH43 -> -4.597918
C44: II | D44: 100.2 | E44: 1.002 | F44: 1.0250119 | G44: 102.50119 | H44: 2.5011876 | K44: II | L44: 100.59303 | M44: 1.0059303 | N44: 1.0586056 | O44: 105.86056 | P44: 5.8605558 | Q44: 100.4 | R44: 100.6 | T44: 2015 | U44: I | V44: 2.2965945 | W44: 5.23647 | X44: 4.137817 | Y44: 13.030429 | Z44: 21.728148 | AA44: 5.7862665 | AB44: -6.1473231 | AC44: 1.6319388 | AE44: 2015 | AF44: I | AG44: 2.2965945 | AH44: 5.23647 | AK44: =AG44-AH44 -> -2.9398756
...

Sheet 1.4.-1.6. ábra
C1: GDP (Magyarország) | E1: GDP (Németország)
A2: Oszlop1 | B2: Oszlop2 | C2: Szezonálisan és naptári hatással kiigazított és kiegyensúlyozott adatok (előző negyedév=0,0) | D2: Magyarország | E2: Németország
A3: 1996 | B3: I | C3: 0.2 | G3: A GDP szezonálisan és naptári hatással kiigazított, kiegyensúlyozott volumenindexe
B4: II | C4: -0.3
B5: III | C5: 0
B6: IV | C6: 1.1
A7: 1997 | B7: I | C7: 1
B8: II | C8: 1
B9: III | C9: 1
B10: IV | C10: 1
A11: 1998 | B11: I | C11: 1.1
B12: II | C12: 1.4
B13: III | C13: 0.8
B14: IV | C14: 0.2
A15: 1999 | B15: I | C15: 0.2
B16: II | C16: 1
B17: III | C17: 1.7
B18: IV | C18: 1.1
A19: 2000 | B19: I | C19: 0.8
B20: II | C20: 1.1
B21: III | C21: 0.8
B22: IV | C22: 1.6 | G22: Az ipari termelés szezonálisan és munkanappal kiigazított volumenindexe
A23: 2001 | B23: I | C23: 0.8
B24: II | C24: 0.9
B25: III | C25: 0.8
B26: IV | C26: 0.8
A27: 2002 | B27: I | C27: 2.1
B28: II | C28: 0.5
B29: III | C29: 1
B30: IV | C30: 1
A31: 2003 | B31: I | C31: 0.6
B32: II | C32: 1.2
B33: III | C33: 1.1
B34: IV | C34: 1.2
A35: 2004 | B35: I | C35: 1.4
B36: II | C36: 1.1
B37: III | C37: 1.2
B38: IV | C38: 0.5
A39: 2005 | B39: I | C39: 1.3
B40: II | C40: 1.6
...

Sheet 2.1.-2.6. ábra
D1: Konjunktúra mutató
A2: Oszlop1 | B2: Konjunktúra mutató | C2: Bizonytalansági mutató | D2: Nem exportáló | E2: Részben exportáló | F2: Döntően exportáló | G2: Ipar | H2: Építőipar | I2: Kereskedelem | J2: Egyéb gazd. szolg. | K2: Tisztán hazai tul. | L2: Részben külföldi tul. | M2: Döntően külföldi tul. | N2: x-9 fő | O2: 10-49 fő | P2: 50-249 fő | Q2: 250-x fő | S2: A GVI konjunktúra mutató alakulása
A3: 98_jun | B3: =alapadatok!H3 -> 38.2293 | C3: =alapadatok!F3 -> 43.64568 | G3: 40.9329 | H3: 41.3027 | I3: 33.7597 | J3: 34.8303 | K3: 34.4711 | L3: 47.8203 | M3: 50.5572 | N3: 19.1859 | O3: 40.6065 | P3: 42.4471 | Q3: 41.5255
A4: 98_dec | B4: =alapadatok!H4 -> 31.2894 | C4: =alapadatok!F4 -> 45.68071 | G4: 30.8467 | H4: 16.2106 | I4: 34.2527 | J4: 33.2153 | K4: 35.8735 | L4: 37.7424 | M4: 23.5472 | N4: 23.3356 | O4: 32.5127 | P4: 36.1086 | Q4: 31.3122
A5: 99_jun | B5: =alapadatok!H5 -> 27.5053 | C5: =alapadatok!F5 -> 48.99457 | D5: 26.424 | E5: 24.3383 | F5: 34.5883 | G5: 30.28 | H5: 27.8768 | I5: 18.0361 | J5: 27.7577 | K5: 25.959 | L5: 20.3683 | M5: 43.84 | N5: 13.7222 | O5: 24.6903 | P5: 27.5546 | Q5: 32.4564
A6: 99_dec | B6: =alapadatok!H6 -> 33.9359 | C6: =alapadatok!F6 -> 48.94209 | D6: 28.0993 | E6: 39.1687 | F6: 47.6839 | G6: 42.9693 | H6: 16.6315 | I6: 24.3962 | J6: 22.577 | K6: 29.051 | L6: 42.6799 | M6: 48.5524 | N6: 14.2227 | O6: 29.2795 | P6: 29.7 | Q6: 42.9082
A7: 00_jun | B7: =alapadatok!H7 -> 34.3594 | C7: =alapadatok!F7 -> 46.70142 | D7: 25.0163 | E7: 48.2256 | F7: 45.6978 | G7: 41.0109 | H7: 25.4913 | I7: 21.3198 | J7: 29.6819 | K7: 28.0881 | L7: 43.6342 | M7: 53.3455 | N7: 15.4162 | O7: 30.8569 | P7: 31.2064 | Q7: 42.7143
A8: 00_okt | B8: =alapadatok!H8 -> 31.9999 | C8: =alapadatok!F8 -> 46.63071 | D8: 26.123 | E8: 36.9744 | F8: 45.5282 | G8: 38.1813 | H8: 19.8354 | I8: 21.6467 | J8: 27.9395 | K8: 25.7664 | L8: 37.3784 | M8: 53.8591 | N8: 14.024 | O8: 29.7288 | P8: 35.3496 | Q8: 36.9302
A9: 01_maj | B9: =alapadatok!H9 -> 46.4947 | C9: =alapadatok!F9 -> 42.52085 | D9: 38.5578 | E9: 55.0702 | F9: 55.7485 | G9: 53.7611 | H9: 42.4132 | I9: 47.4392 | J9: 30.7233 | K9: 43.2197 | L9: 33.5112 | M9: 62.0624 | N9: 25.1832 | O9: 41.2461 | P9: 45.0036 | Q9: 54.7376
A10: 01_okt | B10: =alapadatok!H10 -> 25.0886 | C10: =alapadatok!F10 -> 46.87999 | D10: 20.6186 | E10: 34.5607 | F10: 22.0318 | G10: 24.377 | H10: 24.1548 | I10: 19.3112 | J10: 32.5672 | K10: 24.7994 | L10: 31.1363 | M10: 23.6176 | N10: 13.0922 | O10: 26.025 | P10: 28.6812 | Q10: 26.1805
A11: 02_apr | B11: =alapadatok!H11 -> 39.7112 | C11: =alapadatok!F11 -> 45.73848 | D11: 38.378 | E11: 46.3929 | F11: 34.6681 | G11: 39.456 | H11: 55.7885 | I11: 29.3916 | J11: 41.1098 | K11: 38.9971 | L11: 54.7107 | M11: 50.6091 | N11: 23.0418 | O11: 41.6518 | P11: 36.7659 | Q11: 44.4887
A12: 02_okt | B12: =alapadatok!H12 -> 34.7113 | C12: =alapadatok!F12 -> 48.16081 | D12: 33.8667 | E12: 37.6155 | F12: 33.346 | G12: 38.997 | H12: 23.9204 | I12: 35.1313 | J12: 26.982 | K12: 29.969 | L12: 32.9579 | M12: 53.0071 | N12: 15.3983 | O12: 27.4486 | P12: 32.9929 | Q12: 43.343
A13: 03_apr | B13: =alapadatok!H13 -> 32.4142 | C13: =alapadatok!F13 -> 51.18917 | D13: 26.0889 | E13: 34.5845 | F13: 43.5367 | G13: 38.0025 | H13: 29.7258 | I13: 26.673 | J13: 23.8918 | K13: 26.602 | L13: 38.6675 | M13: 55.9208 | N13: 11.1551 | O13: 29.8326 | P13: 23.8749 | Q13: 42.7824
A14: 03_okt | B14: =alapadatok!H14 -> 28.0884 | C14: =alapadatok!F14 -> 54.3752 | D14: 23.7 | E14: 28.617 | F14: 34.5914 | G14: 31.7333 | H14: 8.4898 | I14: 27.518 | J14: 22.6188 | K14: 22.9455 | L14: 21.3688 | M14: 49.48 | N14: 10.9429 | O14: 19.9344 | P14: 30.9958 | Q14: 34.4704
A15: 04_apr | B15: =alapadatok!H15 -> 31.8144 | C15: =alapadatok!F15 -> 52.53638 | D15: 16.2544 | E15: 44.4112 | F15: 46.5629 | G15: 39.8406 | H15: 35.8694 | I15: 18.867 | J15: 20.1677 | K15: 19.4303 | L15: 61.7919 | M15: 52.1919 | N15: 16.4108 | O15: 26.2709 | P15: 30.223 | Q15: 38.3983
A16: 04_okt | B16: =alapadatok!H16 -> 27.9983 | C16: =alapadatok!F16 -> 53.68289 | D16: 17.0771 | E16: 25.7595 | F16: 40.0965 | G16: 30.4504 | H16: 31.0418 | I16: 21.0757 | J16: 25.8026 | K16: 22.1803 | L16: 33.9592 | M16: 43.9844 | N16: 9.872 | O16: 15.376 | P16: 27.4767 | Q16: 36.6611
A17: 05_apr | B17: =alapadatok!H17 -> 24.2096 | C17: =alapadatok!F17 -> 55.70547 | D17: 18.863 | E17: 25.6324 | F17: 40.5354 | G17: 26.1612 | H17: 20.8512 | I17: 18.2495 | J17: 22.4826 | K17: 22.142 | L17: 11.3826 | M17: 41.8577 | N17: 0.3285 | O17: 18.7716 | P17: 27.5351 | Q17: 31.4247 | S17: A GVI bizonytalansági mutató alakulása
A18: 05_okt | B18: =alapadatok!H18 -> 23.1514 | C18: =alapadatok!F18 -> 55.34604 | D18: 12.2321 | E18: 32.0101 | F18: 35.2828 | G18: 30.7231 | H18: 16.7615 | I18: 3.0226 | J18: 19.908 | K18: 18.9343 | L18: 23.3725 | M18: 38.2826 | N18: 3.3422 | O18: 13.2246 | P18: 27.8637 | Q18: 30.8794 | Z18: 2017. ápr. | AA18: 2017. okt. | AB18: 2018. ápr. | AC18: 2018. okt.
A19: 06_apr | B19: =alapadatok!H19 -> 30.7506 | C19: =alapadatok!F19 -> 52.43954 | D19: 28.1373 | E19: 27.1714 | F19: 40.0243 | G19: 34.2443 | H19: 24.0859 | I19: 19.1964 | J19: 33.4384 | K19: 28.3366 | L19: 8.4684 | M19: 39.2533 | N19: 12.7121 | O19: 27.2209 | P19: 34.4344 | Q19: 37.3656 | Y19: GVI Bizonytalansági mutató | Z19: 44.122804 | AA19: 41.64792 | AB19: 39.4 | AC19: 37.1
A20: 06_okt | B20: =alapadatok!H20 -> 19.9713 | C20: =alapadatok!F20 -> 55.38771 | D20: 8.46 | E20: 36.1532 | F20: 45.8811 | G20: 32.7192 | H20: -4.9622 | I20: 1.8712 | J20: 13.3786 | K20: 14.6279 | L20: 27.7234 | M20: 41.873 | N20: -9.2727 | O20: 2.2981 | P20: 30.62 | Q20: 32.9282
A21: 07_apr | B21: =alapadatok!H21 -> 24.3611 | C21: =alapadatok!F21 -> 55.94598 | D21: 17.8714 | E21: 28.0353 | F21: 38.9094 | G21: 31.2444 | H21: 3.1605 | I21: 23.0045 | J21: 22.935 | K21: 21.9732 | L21: -25.4847 | M21: 46.839 | N21: 3.0812 | O21: 24.7631 | P21: 33.6422 | Q21: 28.4921
A22: 07_okt | B22: =alapadatok!H22 -> 15.8217 | C22: =alapadatok!F22 -> 56.41263 | D22: 4.2323 | E22: 23.0577 | F22: 29.1993 | G22: 28.8075 | H22: 3.1376 | I22: 4.7845 | J22: -1.2454 | K22: 9.7411 | L22: 24.699 | M22: 35.9083 | N22: -6.5054 | O22: 13.107 | P22: 25.8656 | Q22: 21.9722
A23: 08_apr | B23: =alapadatok!H23 -> 27.1599 | C23: =alapadatok!F23 -> 56.53752 | D23: 8.6825 | E23: 42.2016 | F23: 45.2806 | G23: 30.8022 | H23: 2.3123 | I23: 23.5282 | J23: 24.1493 | K23: 21.0529 | L23: 42.5649 | M23: 46.1871 | N23: 8.3286 | O23: 11.6668 | P23: 30.4412 | Q23: 39.2322
A24: 08_okt | B24: =alapadatok!H24 -> -3.1047 | C24: =alapadatok!F24 -> 60.24623 | D24: -4.6092 | E24: 4.7418 | F24: -8.6575 | G24: -6.3093 | H24: 11.5103 | I24: -3.486 | J24: 1.8118 | K24: -2.0884 | L24: -3.4955 | M24: -6.435 | N24: -9.7981 | O24: -7.8924 | P24: 1.5527 | Q24: -0.2651
A25: 09_apr | B25: =alapadatok!H25 -> -14.3579 | C25: =alapadatok!F25 -> 57.55911 | D25: -16.132 | E25: -17.834 | F25: -5.5709 | G25: -12.2477 | H25: -6.3219 | I25: -25.4273 | J25: -11.9668 | K25: -14.4289 | L25: -7.2606 | M25: -13.9294 | N25: -23.361 | O25: -22.8727 | P25: -16.3679 | Q25: -6.671
A26: 09_okt | B26: =alapadatok!H26 -> 0.2443 | C26: =alapadatok!F26 -> 55.96125 | D26: -5.6014 | E26: 5.3248 | F26: 16.3905 | G26: 5.8097 | H26: 0.4853 | I26: -12.2525 | J26: -3.5891 | K26: -3.3308 | L26: -3.4924 | M26: 15.8279 | N26: -7.884 | O26: -9.3556 | P26: 1.7609 | Q26: 6.5606
A27: 10_apr | B27: =alapadatok!H27 -> 24.0144 | C27: =alapadatok!F27 -> 56.96495 | D27: 8.7902 | E27: 26.7963 | F27: 59.1606 | G27: 46.1743 | H27: -0.2532 | I27: 8.5984 | J27: 14.1943 | K27: 14.461 | L27: 41.0558 | M27: 50.4979 | N27: 1.6798 | O27: 16.234 | P27: 20.4597 | Q27: 37.831
A28: 10_okt | B28: =alapadatok!H28 -> 23.0338 | C28: =alapadatok!F28 -> 57.98706 | D28: 8.7693 | E28: 32.5101 | F28: 53.0714 | G28: 43.7453 | H28: -2.8897 | I28: 18.1342 | J28: 8.4003 | K28: 18.1587 | L28: 28.9353 | M28: 40.7777 | N28: -0.0702 | O28: 9.3216 | P28: 26.9581 | Q28: 36.4773
A29: 11_apr | B29: =alapadatok!H29 -> 30.8797 | C29: =alapadatok!F29 -> 54.68427 | D29: 16.4014 | E29: 41.995 | F29: 58.0367 | G29: 49.9168 | H29: 5.7712 | I29: 18.2114 | J29: 24.5171 | K29: 23.6906 | L29: 70.4342 | M29: 48.862 | N29: 1.6056 | O29: 18.9134 | P29: 33.9223 | Q29: 46.7861
A30: 11_okt | B30: =alapadatok!H30 -> 12.8967 | C30: =alapadatok!F30 -> 58.30281 | D30: -0.9357 | E30: 23.7032 | F30: 37.6376 | G30: 29.2019 | H30: -9.1484 | I30: 0.6304 | J30: 9.8672 | K30: 1.8301 | L30: 39.6753 | M30: 44.7377 | N30: -17.5163 | O30: 0.8232 | P30: 16.6513 | Q30: 30.4827
A31: 12_apr | B31: =alapadatok!H31 -> 20.1865 | C31: =alapadatok!F31 -> 55.04804 | D31: -0.8184 | E31: 28.5538 | F31: 47.963 | G31: 40.3769 | H31: -11.318 | I31: 9.5652 | J31: 9.2468 | K31: 10.7125 | L31: 39.4084 | M31: 43.8907 | N31: -17.364 | O31: 6.5332 | P31: 25.2175 | Q31: 40.9775
A32: 12_okt | B32: =alapadatok!H32 -> 11.8275 | C32: =alapadatok!F32 -> 55.38136 | D32: -2.642 | E32: 22.7282 | F32: 35.5882 | G32: 28.4754 | H32: -28.8545 | I32: 13.4319 | J32: 2.2829 | K32: 4.7127 | L32: 17.3761 | M32: 33.6348 | N32: -25.7607 | O32: -0.8475 | P32: 21.3081 | Q32: 31.4728 | S32: Konjunktúra mutató – vállalati szegmensek szerint
